Workbook

Sheet Instruções e período de cálculo
A1: Esta planilha faz a análise de patrimônios com depreciação linear
A2: Rodar a consulta disponível no link a seguri e colar o resultado na aba 'Colar CSV' aqui
A3: http://ideagri.com.br/plus/modulos/noticias/ler.php?cdnoticia=1931
A4: Informe aqui a data incial para calcular os valores da depreciação
A5: Informe aqui a data final para calcular os valores da depreciação
A6: Confira os resultados na aba 'Confira dados atualizados aqui'

Sheet Cole CSV aqui
A1: TIPO_PATRIMONIO | B1: NOME_PATRIMONIO | C1: NUMERO_PATRIMONIO | D1: TIPO_ATIVIDADE | E1: PLACA | F1: DATA_IMOBILIZACAO | G1: METODO_DEPRECIACAO | H1: VIDA_UTIL | I1: REF_VIDA_UTIL | J1: VALOR_RESIDUAL | K1: QUANTIDADE | L1: UNIDADE_MEDIDA | M1: VALOR_TOTAL | N1: DATA_BAIXA | O1: DEPRECIACAO

Sheet Confira Dados atualizados aqui
A1: =IF('Cole CSV aqui'!A1<>"",'Cole CSV aqui'!A1,"") -> TIPO_PATRIMONIO | B1: =IF('Cole CSV aqui'!B1<>"",'Cole CSV aqui'!B1,"") -> NOME_PATRIMONIO | C1: =IF('Cole CSV aqui'!F1<>"",'Cole CSV aqui'!F1,"") -> DATA_IMOBILIZACAO | D1: =IF('Cole CSV aqui'!G1<>"",'Cole CSV aqui'!G1,"") -> METODO_DEPRECIACAO | E1: =IF('Cole CSV aqui'!M1<>"",'Cole CSV aqui'!M1,"") -> VALOR_TOTAL | F1: =IF('Cole CSV aqui'!J1<>"",'Cole CSV aqui'!J1,"") -> VALOR_RESIDUAL | G1: VALOR-DEPRECIAÇÃO | H1: VIDA_UTIL_EM_DIAS | I1: DATA_FINAL_DEPRECIACAO | J1: QUANTO_FALTA | K1: QUANTO_FALTA_DIAS | L1: Quantos dias depois do inicio do periodo a depreciacao comecou | M1: Quantos dias depois do fim do periodo a depreciacao terminou | N1: Debitar dias pelo inicio | O1: Debitar dias pelo fim | P1: Duração do período informado | Q1: Quanto dias dentro do período memória | R1: DIAS_DEPRECIAVEIS_NO_PERIODO_INFORMADO | S1: VALOR_DIA | T1: VALOR_DIA_R$ | U1: VALOR DEPRECIAÇÃO NO PERÍODO
A2: De | B2: ='Instruções e período de cálculo'!B4 -> 0 | C2: Até | D2: ='Instruções e período de cálculo'!B5 -> 0 | U2: =SUM(U3:U5001) -> 0
A3: =IF('Cole CSV aqui'!A2<>"",'Cole CSV aqui'!A2,"") | B3: =IF('Cole CSV aqui'!B2<>"",'Cole CSV aqui'!B2,"") | C3: =IF('Cole CSV aqui'!F2<>"",'Cole CSV aqui'!F2,"") | D3: =IF('Cole CSV aqui'!G2<>"",'Cole CSV aqui'!G2,"") | E3: =IF('Cole CSV aqui'!M2<>"",'Cole CSV aqui'!M2,"") | F3: =IF('Cole CSV aqui'!J2<>"",'Cole CSV aqui'!J2,"") | G3: =IF(E3<>"",E3-F3,"") | H3: =IF('Cole CSV aqui'!I2="Anos ",'Cole CSV aqui'!H2*365.25,"")&IF('Cole CSV aqui'!I2="Dias ",'Cole CSV aqui'!H2,"")&IF('Cole CSV aqui'!I2="Meses ",'Cole CSV aqui'!H2*30.5,"") | I3: =IF('Cole CSV aqui'!G2<>"",C3+H3,"") | J3: =IF(I3>TODAY(),I3-TODAY(),"") -> #VALUE! | K3: =IF(B3<>"",J3,"") | L3: =C3-'Instruções e período de cálculo'!$B$4 -> #VALUE! | M3: =I3-'Instruções e período de cálculo'!$B$5 -> #VALUE! | N3: =IF(L3>0,L3,0) -> #VALUE! | O3: =IF(M3<0,M3,0) -> #VALUE! | P3: =IF('Cole CSV aqui'!B2<>"",'Instruções e período de cálculo'!$B$5-'Instruções e período de cálculo'!$B$4+1,"") | Q3: =IF('Cole CSV aqui'!B2<>"",P3-N3+O3,"") | R3: =IF(Q3>0,Q3,"") | S3: =('Cole CSV aqui'!M2-'Cole CSV aqui'!J2)/(I3-C3) -> #VALUE! | T3: =IF(B3<>"",S3,"") | U3: =IF(R3<>"",R3*T3,"")
A4: =IF('Cole CSV aqui'!A3<>"",'Cole CSV aqui'!A3,"") | B4: =IF('Cole CSV aqui'!B3<>"",'Cole CSV aqui'!B3,"") | C4: =IF('Cole CSV aqui'!F3<>"",'Cole CSV aqui'!F3,"") | D4: =IF('Cole CSV aqui'!G3<>"",'Cole CSV aqui'!G3,"") | E4: =IF('Cole CSV aqui'!M3<>"",'Cole CSV aqui'!M3,"") | F4: =IF('Cole CSV aqui'!J3<>"",'Cole CSV aqui'!J3,"") | G4: =IF(E4<>"",E4-F4,"") | H4: =IF('Cole CSV aqui'!I3="Anos ",'Cole CSV aqui'!H3*365.25,"")&IF('Cole CSV aqui'!I3="Dias ",'Cole CSV aqui'!H3,"")&IF('Cole CSV aqui'!I3="Meses ",'Cole CSV aqui'!H3*30.5,"") | I4: =IF('Cole CSV aqui'!G3<>"",C4+H4,"") | J4: =IF(I4>TODAY(),I4-TODAY(),"") -> #VALUE! | K4: =IF(B4<>"",J4,"") | L4: =C4-'Instruções e período de cálculo'!$B$4 -> #VALUE! | M4: =I4-'Instruções e período de cálculo'!$B$5 -> #VALUE! | N4: =IF(L4>0,L4,0) -> #VALUE! | O4: =IF(M4<0,M4,0) -> #VALUE! | P4: =IF('Cole CSV aqui'!B3<>"",'Instruções e período de cálculo'!$B$5-'Instruções e período de cálculo'!$B$4+1,"") | Q4: =IF('Cole CSV aqui'!B3<>"",P4-N4+O4,"") | R4: =IF(Q4>0,Q4,"") | S4: =('Cole CSV aqui'!M3-'Cole CSV aqui'!J3)/(I4-C4) -> #VALUE! | T4: =IF(B4<>"",S4,"") | U4: =IF(R4<>"",R4*T4,"")
A5: =IF('Cole CSV aqui'!A4<>"",'Cole CSV aqui'!A4,"") | B5: =IF('Cole CSV aqui'!B4<>"",'Cole CSV aqui'!B4,"") | C5: =IF('Cole CSV aqui'!F4<>"",'Cole CSV aqui'!F4,"") | D5: =IF('Cole CSV aqui'!G4<>"",'Cole CSV aqui'!G4,"") | E5: =IF('Cole CSV aqui'!M4<>"",'Cole CSV aqui'!M4,"") | F5: =IF('Cole CSV aqui'!J4<>"",'Cole CSV aqui'!J4,"") | G5: =IF(E5<>"",E5-F5,"") | H5: =IF('Cole CSV aqui'!I4="Anos ",'Cole CSV aqui'!H4*365.25,"")&IF('Cole CSV aqui'!I4="Dias ",'Cole CSV aqui'!H4,"")&IF('Cole CSV aqui'!I4="Meses ",'Cole CSV aqui'!H4*30.5,"") | I5: =IF('Cole CSV aqui'!G4<>"",C5+H5,"") | J5: =IF(I5>TODAY(),I5-TODAY(),"") -> #VALUE! | K5: =IF(B5<>"",J5,"") | L5: =C5-'Instruções e período de cálculo'!$B$4 -> #VALUE! | M5: =I5-'Instruções e período de cálculo'!$B$5 -> #VALUE! | N5: =IF(L5>0,L5,0) -> #VALUE! | O5: =IF(M5<0,M5,0) -> #VALUE! | P5: =IF('Cole CSV aqui'!B4<>"",'Instruções e período de cálculo'!$B$5-'Instruções e período de cálculo'!$B$4+1,"") | Q5: =IF('Cole CSV aqui'!B4<>"",P5-N5+O5,"") | R5: =IF(Q5>0,Q5,"") | S5: =('Cole CSV aqui'!M4-'Cole CSV aqui'!J4)/(I5-C5) -> #VALUE! | T5: =IF(B5<>"",S5,"") | U5: =IF(R5<>"",R5*T5,"")
A6: =IF('Cole CSV aqui'!A5<>"",'Cole CSV aqui'!A5,"") | B6: =IF('Cole CSV aqui'!B5<>"",'Cole CSV aqui'!B5,"") | C6: =IF('Cole CSV aqui'!F5<>"",'Cole CSV aqui'!F5,"") | D6: =IF('Cole CSV aqui'!G5<>"",'Cole CSV aqui'!G5,"") | E6: =IF('Cole CSV aqui'!M5<>"",'Cole CSV aqui'!M5,"") | F6: =IF('Cole CSV aqui'!J5<>"",'Cole CSV aqui'!J5,"") | G6: =IF(E6<>"",E6-F6,"") | H6: =IF('Cole CSV aqui'!I5="Anos ",'Cole CSV aqui'!H5*365.25,"")&IF('Cole CSV aqui'!I5="Dias ",'Cole CSV aqui'!H5,"")&IF('Cole CSV aqui'!I5="Meses ",'Cole CSV aqui'!H5*30.5,"") | I6: =IF('Cole CSV aqui'!G5<>"",C6+H6,"") | J6: =IF(I6>TODAY(),I6-TODAY(),"") -> #VALUE! | K6: =IF(B6<>"",J6,"") | L6: =C6-'Instruções e período de cálculo'!$B$4 -> #VALUE! | M6: =I6-'Instruções e período de cálculo'!$B$5 -> #VALUE! | N6: =IF(L6>0,L6,0) -> #VALUE! | O6: =IF(M6<0,M6,0) -> #VALUE! | P6: =IF('Cole CSV aqui'!B5<>"",'Instruções e período de cálculo'!$B$5-'Instruções e período de cálculo'!$B$4+1,"") | Q6: =IF('Cole CSV aqui'!B5<>"",P6-N6+O6,"") | R6: =IF(Q6>0,Q6,"") | S6: =('Cole CSV aqui'!M5-'Cole CSV aqui'!J5)/(I6-C6) -> #VALUE! | T6: =IF(B6<>"",S6,"") | U6: =IF(R6<>"",R6*T6,"")
A7: =IF('Cole CSV aqui'!A6<>"",'Cole CSV aqui'!A6,"") | B7: =IF('Cole CSV aqui'!B6<>"",'Cole CSV aqui'!B6,"") | C7: =IF('Cole CSV aqui'!F6<>"",'Cole CSV aqui'!F6,"") | D7: =IF('Cole CSV aqui'!G6<>"",'Cole CSV aqui'!G6,"") | E7: =IF('Cole CSV aqui'!M6<>"",'Cole CSV aqui'!M6,"") | F7: =IF('Cole CSV aqui'!J6<>"",'Cole CSV aqui'!J6,"") | G7: =IF(E7<>"",E7-F7,"") | H7: =IF('Cole CSV aqui'!I6="Anos ",'Cole CSV aqui'!H6*365.25,"")&IF('Cole CSV aqui'!I6="Dias ",'Cole CSV aqui'!H6,"")&IF('Cole CSV aqui'!I6="Meses ",'Cole CSV aqui'!H6*30.5,"") | I7: =IF('Cole CSV aqui'!G6<>"",C7+H7,"") | J7: =IF(I7>TODAY(),I7-TODAY(),"") -> #VALUE! | K7: =IF(B7<>"",J7,"") | L7: =C7-'Instruções e período de cálculo'!$B$4 -> #VALUE! | M7: =I7-'Instruções e período de cálculo'!$B$5 -> #VALUE! | N7: =IF(L7>0,L7,0) -> #VALUE! | O7: =IF(M7<0,M7,0) -> #VALUE! | P7: =IF('Cole CSV aqui'!B6<>"",'Instruções e período de cálculo'!$B$5-'Instruções e período de cálculo'!$B$4+1,"") | Q7: =IF('Cole CSV aqui'!B6<>"",P7-N7+O7,"") | R7: =IF(Q7>0,Q7,"") | S7: =('Cole CSV aqui'!M6-'Cole CSV aqui'!J6)/(I7-C7) -> #VALUE! | T7: =IF(B7<>"",S7,"") | U7: =IF(R7<>"",R7*T7,"")
A8: =IF('Cole CSV aqui'!A7<>"",'Cole CSV aqui'!A7,"") | B8: =IF('Cole CSV aqui'!B7<>"",'Cole CSV aqui'!B7,"") | C8: =IF('Cole CSV aqui'!F7<>"",'Cole CSV aqui'!F7,"") | D8: =IF('Cole CSV aqui'!G7<>"",'Cole CSV aqui'!G7,"") | E8: =IF('Cole CSV aqui'!M7<>"",'Cole CSV aqui'!M7,"") | F8: =IF('Cole CSV aqui'!J7<>"",'Cole CSV aqui'!J7,"") | G8: =IF(E8<>"",E8-F8,"") | H8: =IF('Cole CSV aqui'!I7="Anos ",'Cole CSV aqui'!H7*365.25,"")&IF('Cole CSV aqui'!I7="Dias ",'Cole CSV aqui'!H7,"")&IF('Cole CSV aqui'!I7="Meses ",'Cole CSV aqui'!H7*30.5,"") | I8: =IF('Cole CSV aqui'!G7<>"",C8+H8,"") | J8: =IF(I8>TODAY(),I8-TODAY(),"") -> #VALUE! | K8: =IF(B8<>"",J8,"") | L8: =C8-'Instruções e período de cálculo'!$B$4 -> #VALUE! | M8: =I8-'Instruções e período de cálculo'!$B$5 -> #VALUE! | N8: =IF(L8>0,L8,0) -> #VALUE! | O8: =IF(M8<0,M8,0) -> #VALUE! | P8: =IF('Cole CSV aqui'!B7<>"",'Instruções e período de cálculo'!$B$5-'Instruções e período de cálculo'!$B$4+1,"") | Q8: =IF('Cole CSV aqui'!B7<>"",P8-N8+O8,"") | R8: =IF(Q8>0,Q8,"") | S8: =('Cole CSV aqui'!M7-'Cole CSV aqui'!J7)/(I8-C8) -> #VALUE! | T8: =IF(B8<>"",S8,"") | U8: =IF(R8<>"",R8*T8,"")
A9: =IF('Cole CSV aqui'!A8<>"",'Cole CSV aqui'!A8,"") | B9: =IF('Cole CSV aqui'!B8<>"",'Cole CSV aqui'!B8,"") | C9: =IF('Cole CSV aqui'!F8<>"",'Cole CSV aqui'!F8,"") | D9: =IF('Cole CSV aqui'!G8<>"",'Cole CSV aqui'!G8,"") | E9: =IF('Cole CSV aqui'!M8<>"",'Cole CSV aqui'!M8,"") | F9: =IF('Cole CSV aqui'!J8<>"",'Cole CSV aqui'!J8,"") | G9: =IF(E9<>"",E9-F9,"") | H9: =IF('Cole CSV aqui'!I8="Anos ",'Cole CSV aqui'!H8*365.25,"")&IF('Cole CSV aqui'!I8="Dias ",'Cole CSV aqui'!H8,"")&IF('Cole CSV aqui'!I8="Meses ",'Cole CSV aqui'!H8*30.5,"") | I9: =IF('Cole CSV aqui'!G8<>"",C9+H9,"") | J9: =IF(I9>TODAY(),I9-TODAY(),"") -> #VALUE! | K9: =IF(B9<>"",J9,"") | L9: =C9-'Instruções e período de cálculo'!$B$4 -> #VALUE! | M9: =I9-'Instruções e período de cálculo'!$B$5 -> #VALUE! | N9: =IF(L9>0,L9,0) -> #VALUE! | O9: =IF(M9<0,M9,0) -> #VALUE! | P9: =IF('Cole CSV aqui'!B8<>"",'Instruções e período de cálculo'!$B$5-'Instruções e período de cálculo'!$B$4+1,"") | Q9: =IF('Cole CSV aqui'!B8<>"",P9-N9+O9,"") | R9: =IF(Q9>0,Q9,"") | S9: =('Cole CSV aqui'!M8-'Cole CSV aqui'!J8)/(I9-C9) -> #VALUE! | T9: =IF(B9<>"",S9,"") | U9: =IF(R9<>"",R9*T9,"")
A10: =IF('Cole CSV aqui'!A9<>"",'Cole CSV aqui'!A9,"") | B10: =IF('Cole CSV aqui'!B9<>"",'Cole CSV aqui'!B9,"") | C10: =IF('Cole CSV aqui'!F9<>"",'Cole CSV aqui'!F9,"") | D10: =IF('Cole CSV aqui'!G9<>"",'Cole CSV aqui'!G9,"") | E10: =IF('Cole CSV aqui'!M9<>"",'Cole CSV aqui'!M9,"") | F10: =IF('Cole CSV aqui'!J9<>"",'Cole CSV aqui'!J9,"") | G10: =IF(E10<>"",E10-F10,"") | H10: =IF('Cole CSV aqui'!I9="Anos ",'Cole CSV aqui'!H9*365.25,"")&IF('Cole CSV aqui'!I9="Dias ",'Cole CSV aqui'!H9,"")&IF('Cole CSV aqui'!I9="Meses ",'Cole CSV aqui'!H9*30.5,"") | I10: =IF('Cole CSV aqui'!G9<>"",C10+H10,"") | J10: =IF(I10>TODAY(),I10-TODAY(),"") -> #VALUE! | K10: =IF(B10<>"",J10,"") | L10: =C10-'Instruções e período de cálculo'!$B$4 -> #VALUE! | M10: =I10-'Instruções e período de cálculo'!$B$5 -> #VALUE! | N10: =IF(L10>0,L10,0) -> #VALUE! | O10: =IF(M10<0,M10,0) -> #VALUE! | P10: =IF('Cole CSV aqui'!B9<>"",'Instruções e período de cálculo'!$B$5-'Instruções e período de cálculo'!$B$4+1,"") | Q10: =IF('Cole CSV aqui'!B9<>"",P10-N10+O10,"") | R10: =IF(Q10>0,Q10,"") | S10: =('Cole CSV aqui'!M9-'Cole CSV aqui'!J9)/(I10-C10) -> #VALUE! | T10: =IF(B10<>"",S10,"") | U10: =IF(R10<>"",R10*T10,"")
A11: =IF('Cole CSV aqui'!A10<>"",'Cole CSV aqui'!A10,"") | B11: =IF('Cole CSV aqui'!B10<>"",'Cole CSV aqui'!B10,"") | C11: =IF('Cole CSV aqui'!F10<>"",'Cole CSV aqui'!F10,"") | D11: =IF('Cole CSV aqui'!G10<>"",'Cole CSV aqui'!G10,"") | E11: =IF('Cole CSV aqui'!M10<>"",'Cole CSV aqui'!M10,"") | F11: =IF('Cole CSV aqui'!J10<>"",'Cole CSV aqui'!J10,"") | G11: =IF(E11<>"",E11-F11,"") | H11: =IF('Cole CSV aqui'!I10="Anos ",'Cole CSV aqui'!H10*365.25,"")&IF('Cole CSV aqui'!I10="Dias ",'Cole CSV aqui'!H10,"")&IF('Cole CSV aqui'!I10="Meses ",'Cole CSV aqui'!H10*30.5,"") | I11: =IF('Cole CSV aqui'!G10<>"",C11+H11,"") | J11: =IF(I11>TODAY(),I11-TODAY(),"") -> #VALUE! | K11: =IF(B11<>"",J11,"") | L11: =C11-'Instruções e período de cálculo'!$B$4 -> #VALUE! | M11: =I11-'Instruções e período de cálculo'!$B$5 -> #VALUE! | N11: =IF(L11>0,L11,0) -> #VALUE! | O11: =IF(M11<0,M11,0) -> #VALUE! | P11: =IF('Cole CSV aqui'!B10<>"",'Instruções e período de cálculo'!$B$5-'Instruções e período de cálculo'!$B$4+1,"") | Q11: =IF('Cole CSV aqui'!B10<>"",P11-N11+O11,"") | R11: =IF(Q11>0,Q11,"") | S11: =('Cole CSV aqui'!M10-'Cole CSV aqui'!J10)/(I11-C11) -> #VALUE! | T11: =IF(B11<>"",S11,"") | U11: =IF(R11<>"",R11*T11,"")
A12: =IF('Cole CSV aqui'!A11<>"",'Cole CSV aqui'!A11,"") | B12: =IF('Cole CSV aqui'!B11<>"",'Cole CSV aqui'!B11,"") | C12: =IF('Cole CSV aqui'!F11<>"",'Cole CSV aqui'!F11,"") | D12: =IF('Cole CSV aqui'!G11<>"",'Cole CSV aqui'!G11,"") | E12: =IF('Cole CSV aqui'!M11<>"",'Cole CSV aqui'!M11,"") | F12: =IF('Cole CSV aqui'!J11<>"",'Cole CSV aqui'!J11,"") | G12: =IF(E12<>"",E12-F12,"") | H12: =IF('Cole CSV aqui'!I11="Anos ",'Cole CSV aqui'!H11*365.25,"")&IF('Cole CSV aqui'!I11="Dias ",'Cole CSV aqui'!H11,"")&IF('Cole CSV aqui'!I11="Meses ",'Cole CSV aqui'!H11*30.5,"") | I12: =IF('Cole CSV aqui'!G11<>"",C12+H12,"") | J12: =IF(I12>TODAY(),I12-TODAY(),"") -> #VALUE! | K12: =IF(B12<>"",J12,"") | L12: =C12-'Instruções e período de cálculo'!$B$4 -> #VALUE! | M12: =I12-'Instruções e período de cálculo'!$B$5 -> #VALUE! | N12: =IF(L12>0,L12,0) -> #VALUE! | O12: =IF(M12<0,M12,0) -> #VALUE! | P12: =IF('Cole CSV aqui'!B11<>"",'Instruções e período de cálculo'!$B$5-'Instruções e período de cálculo'!$B$4+1,"") | Q12: =IF('Cole CSV aqui'!B11<>"",P12-N12+O12,"") | R12: =IF(Q12>0,Q12,"") | S12: =('Cole CSV aqui'!M11-'Cole CSV aqui'!J11)/(I12-C12) -> #VALUE! | T12: =IF(B12<>"",S12,"") | U12: =IF(R12<>"",R12*T12,"")
A13: =IF('Cole CSV aqui'!A12<>"",'Cole CSV aqui'!A12,"") | B13: =IF('Cole CSV aqui'!B12<>"",'Cole CSV aqui'!B12,"") | C13: =IF('Cole CSV aqui'!F12<>"",'Cole CSV aqui'!F12,"") | D13: =IF('Cole CSV aqui'!G12<>"",'Cole CSV aqui'!G12,"") | E13: =IF('Cole CSV aqui'!M12<>"",'Cole CSV aqui'!M12,"") | F13: =IF('Cole CSV aqui'!J12<>"",'Cole CSV aqui'!J12,"") | G13: =IF(E13<>"",E13-F13,"") | H13: =IF('Cole CSV aqui'!I12="Anos ",'Cole CSV aqui'!H12*365.25,"")&IF('Cole CSV aqui'!I12="Dias ",'Cole CSV aqui'!H12,"")&IF('Cole CSV aqui'!I12="Meses ",'Cole CSV aqui'!H12*30.5,"") | I13: =IF('Cole CSV aqui'!G12<>"",C13+H13,"") | J13: =IF(I13>TODAY(),I13-TODAY(),"") -> #VALUE! | K13: =IF(B13<>"",J13,"") | L13: =C13-'Instruções e período de cálculo'!$B$4 -> #VALUE! | M13: =I13-'Instruções e período de cálculo'!$B$5 -> #VALUE! | N13: =IF(L13>0,L13,0) -> #VALUE! | O13: =IF(M13<0,M13,0) -> #VALUE! | P13: =IF('Cole CSV aqui'!B12<>"",'Instruções e período de cálculo'!$B$5-'Instruções e período de cálculo'!$B$4+1,"") | Q13: =IF('Cole CSV aqui'!B12<>"",P13-N13+O13,"") | R13: =IF(Q13>0,Q13,"") | S13: =('Cole CSV aqui'!M12-'Cole CSV aqui'!J12)/(I13-C13) -> #VALUE! | T13: =IF(B13<>"",S13,"") | U13: =IF(R13<>"",R13*T13,"")
A14: =IF('Cole CSV aqui'!A13<>"",'Cole CSV aqui'!A13,"") | B14: =IF('Cole CSV aqui'!B13<>"",'Cole CSV aqui'!B13,"") | C14: =IF('Cole CSV aqui'!F13<>"",'Cole CSV aqui'!F13,"") | D14: =IF('Cole CSV aqui'!G13<>"",'Cole CSV aqui'!G13,"") | E14: =IF('Cole CSV aqui'!M13<>"",'Cole CSV aqui'!M13,"") | F14: =IF('Cole CSV aqui'!J13<>"",'Cole CSV aqui'!J13,"") | G14: =IF(E14<>"",E14-F14,"") | H14: =IF('Cole CSV aqui'!I13="Anos ",'Cole CSV aqui'!H13*365.25,"")&IF('Cole CSV aqui'!I13="Dias ",'Cole CSV aqui'!H13,"")&IF('Cole CSV aqui'!I13="Meses ",'Cole CSV aqui'!H13*30.5,"") | I14: =IF('Cole CSV aqui'!G13<>"",C14+H14,"") | J14: =IF(I14>TODAY(),I14-TODAY(),"") -> #VALUE! | K14: =IF(B14<>"",J14,"") | L14: =C14-'Instruções e período de cálculo'!$B$4 -> #VALUE! | M14: =I14-'Instruções e período de cálculo'!$B$5 -> #VALUE! | N14: =IF(L14>0,L14,0) -> #VALUE! | O14: =IF(M14<0,M14,0) -> #VALUE! | P14: =IF('Cole CSV aqui'!B13<>"",'Instruções e período de cálculo'!$B$5-'Instruções e período de cálculo'!$B$4+1,"") | Q14: =IF('Cole CSV aqui'!B13<>"",P14-N14+O14,"") | R14: =IF(Q14>0,Q14,"") | S14: =('Cole CSV aqui'!M13-'Cole CSV aqui'!J13)/(I14-C14) -> #VALUE! | T14: =IF(B14<>"",S14,"") | U14: =IF(R14<>"",R14*T14,"")
... A5001: =IF('Cole CSV aqui'!A5000<>"",'Cole CSV aqui'!A5000,"") | B5001: =IF('Cole CSV aqui'!B5000<>"",'Cole CSV aqui'!B5000,"") | C5001: =IF('Cole CSV aqui'!F5000<>"",'Cole CSV aqui'!F5000,"") | D5001: =IF('Cole CSV aqui'!G5000<>"",'Cole CSV aqui'!G5000,"") | E5001: =IF('Cole CSV aqui'!M5000<>"",'Cole CSV aqui'!M5000,"") | F5001: =IF('Cole CSV aqui'!J5000<>"",'Cole CSV aqui'!J5000,"") | G5001: =IF(E5001<>"",E5001-F5001,"") | H5001: =IF('Cole CSV aqui'!I5000="Anos ",'Cole CSV aqui'!H5000*365.25,"")&IF('Cole CSV aqui'!I5000="Dias ",'Cole CSV aqui'!H5000,"")&IF('Cole CSV aqui'!I5000="Meses ",'Cole CSV aqui'!H5000*30.5,"") | I5001: =IF('Cole CSV aqui'!G5000<>"",C5001+H5001,"") | J5001: =IF(I5001>TODAY(),I5001-TODAY(),"") -> #VALUE! | K5001: =IF(B5001<>"",J5001,"") | L5001: =C5001-'Instruções e período de cálculo'!$B$4 -> #VALUE! | M5001: =I5001-'Instruções e período de cálculo'!$B$5 -> #VALUE! | N5001: =IF(L5001>0,L5001,0) -> #VALUE! | O5001: =IF(M5001<0,M5001,0) -> #VALUE! | P5001: =IF('Cole CSV aqui'!B5000<>"",'Instruções e período de cálculo'!$B$5-'Instruções e período de cálculo'!$B$4+1,"") | Q5001: =IF('Cole CSV aqui'!B5000<>"",P5001-N5001+O5001,"") | R5001: =IF(Q5001>0,Q5001,"") | S5001: =('Cole CSV aqui'!M5000-'Cole CSV aqui'!J5000)/(I5001-C5001) -> #VALUE! | T5001: =IF(B5001<>"",S5001,"") | U5001: =IF(R5001<>"",R5001*T5001,"")
A5002: ---- | B5002: ---- | C5002: ---- | D5002: ---- | E5002: ---- | F5002: =IF('Cole CSV aqui'!J5001<>"",'Cole CSV aqui'!J5001,"") | G5002: =IF(E5002<>"",E5002-F5002,"") -> #VALUE! | H5002: ---- | I5002: ---- | J5002: ---- | K5002: ---- | L5002: ---- | M5002: ---- | N5002: ---- | O5002: ---- | P5002: ---- | Q5002: ---- | R5002: ---- | S5002: ---- | T5002: ---- | U5002: ----
